BEGIN:VCALENDAR
VERSION:2.0
PRODID:-//Dorpshuis de Parel Rossum - ECPv6.15.20//NONSGML v1.0//EN
CALSCALE:GREGORIAN
METHOD:PUBLISH
X-ORIGINAL-URL:https://dorpshuisdeparelrossum.nl
X-WR-CALDESC:Evenementen voor Dorpshuis de Parel Rossum
REFRESH-INTERVAL;VALUE=DURATION:PT1H
X-Robots-Tag:noindex
X-PUBLISHED-TTL:PT1H
BEGIN:VTIMEZONE
TZID:Europe/Amsterdam
BEGIN:DAYLIGHT
TZOFFSETFROM:+0100
TZOFFSETTO:+0200
TZNAME:CEST
DTSTART:20250330T010000
END:DAYLIGHT
BEGIN:STANDARD
TZOFFSETFROM:+0200
TZOFFSETTO:+0100
TZNAME:CET
DTSTART:20251026T010000
END:STANDARD
BEGIN:DAYLIGHT
TZOFFSETFROM:+0100
TZOFFSETTO:+0200
TZNAME:CEST
DTSTART:20260329T010000
END:DAYLIGHT
BEGIN:STANDARD
TZOFFSETFROM:+0200
TZOFFSETTO:+0100
TZNAME:CET
DTSTART:20261025T010000
END:STANDARD
BEGIN:DAYLIGHT
TZOFFSETFROM:+0100
TZOFFSETTO:+0200
TZNAME:CEST
DTSTART:20270328T010000
END:DAYLIGHT
BEGIN:STANDARD
TZOFFSETFROM:+0200
TZOFFSETTO:+0100
TZNAME:CET
DTSTART:20271031T010000
END:STANDARD
END:VTIMEZONE
BEGIN:VEVENT
DTSTART;TZID=Europe/Amsterdam:20260423T183000
DTEND;TZID=Europe/Amsterdam:20260423T223000
DTSTAMP:20260423T031900
CREATED:20251210T083234Z
LAST-MODIFIED:20251210T083234Z
UID:2145-1776969000-1776983400@dorpshuisdeparelrossum.nl
SUMMARY:Rotac trainingsavond
DESCRIPTION:
URL:https://dorpshuisdeparelrossum.nl/agenda/rotac-trainingsavond-33/
END:VEVENT
BEGIN:VEVENT
DTSTART;VALUE=DATE:20260427
DTEND;VALUE=DATE:20260429
DTSTAMP:20260423T031900
CREATED:20251210T094034Z
LAST-MODIFIED:20251210T094034Z
UID:2230-1777266000-1777352399@dorpshuisdeparelrossum.nl
SUMMARY:Koningsdag
DESCRIPTION:
URL:https://dorpshuisdeparelrossum.nl/agenda/koningsdag/
END:VEVENT
BEGIN:VEVENT
DTSTART;TZID=Europe/Amsterdam:20260428T200000
DTEND;TZID=Europe/Amsterdam:20260428T223000
DTSTAMP:20260423T031900
CREATED:20260106T200004Z
LAST-MODIFIED:20260106T200004Z
UID:2382-1777406400-1777415400@dorpshuisdeparelrossum.nl
SUMMARY:PIM repetitie
DESCRIPTION:
URL:https://dorpshuisdeparelrossum.nl/agenda/pim-repetitie-13/
END:VEVENT
BEGIN:VEVENT
DTSTART;TZID=Europe/Amsterdam:20260430T183000
DTEND;TZID=Europe/Amsterdam:20260430T223000
DTSTAMP:20260423T031900
CREATED:20251210T083320Z
LAST-MODIFIED:20251210T083320Z
UID:2147-1777573800-1777588200@dorpshuisdeparelrossum.nl
SUMMARY:Rotac trainingsavond
DESCRIPTION:
URL:https://dorpshuisdeparelrossum.nl/agenda/rotac-trainingsavond-34/
END:VEVENT
END:VCALENDAR